BEGIN:VCALENDAR
VERSION:2.0
PRODID:-//Sabre//Sabre VObject 4.5.7//EN
CALSCALE:GREGORIAN
BEGIN:VEVENT
UID:sabre-vobject-91c3a5b9-544c-49e6-87a8-24f1e7ffc03f
DTSTAMP:20260425T163606Z
SUMMARY:Seniorenkino "Neuburg-Filme"
DESCRIPTION:https://stadtmarketing-neuburg.de/veranstaltungen/seniorenkino-
 neuburg-filme_id24856
DTSTART;TZID=Europe/Berlin:20260420T150000
LOCATION:Kinopalast Neuburg\, Längenmühlweg 57\, 86633 Neuburg an der Don
 au
END:VEVENT
END:VCALENDAR
