BEGIN:VCALENDAR
VERSION:2.0
PRODID:-//Sabre//Sabre VObject 4.5.7//EN
CALSCALE:GREGORIAN
BEGIN:VEVENT
UID:sabre-vobject-42152f02-435c-419a-a6b5-1928d1572d42
DTSTAMP:20260421T105933Z
SUMMARY:Vulkane - Explosive Ventile der Erde 
DESCRIPTION:https://stadtmarketing-neuburg.de/veranstaltungen/vulkane-explo
 sive-ventile-der-erde_id24958
DTSTART;TZID=Europe/Berlin:20260405T100000
DTEND;TZID=Europe/Berlin:20260405T170000
LOCATION:Ottheinrichturm\, \, 86633 Neuburg an der Donau
END:VEVENT
END:VCALENDAR
