BEGIN:VCALENDAR
VERSION:2.0
PRODID:-//Sabre//Sabre VObject 4.5.7//EN
CALSCALE:GREGORIAN
BEGIN:VEVENT
UID:sabre-vobject-cbc321a4-fec0-435a-8851-ea10986c4756
DTSTAMP:20260419T155818Z
SUMMARY:Radierausstellung
DESCRIPTION:https://stadtmarketing-neuburg.de/veranstaltungen/radierausstel
 lung_id25462
DTSTART;TZID=Europe/Berlin:20260410T090000
DTEND;TZID=Europe/Berlin:20260410T180000
LOCATION:Marstallfoyer\, Ottheinrichplatz A 117\, 86633 Neuburg an der Dona
 u
END:VEVENT
END:VCALENDAR
