BEGIN:VCALENDAR
VERSION:2.0
PRODID:-//Sabre//Sabre VObject 4.5.7//EN
CALSCALE:GREGORIAN
BEGIN:VEVENT
UID:sabre-vobject-69b36a2e-0538-48d1-81f7-b23cd90ab8b9
DTSTAMP:20260425T183724Z
SUMMARY:Worte\, die wachsen: Sprachentwicklung liebevoll begleiten
DESCRIPTION:https://stadtmarketing-neuburg.de/veranstaltungen/worte-die-wac
 hsen-sprachentwicklung-liebevoll-begleiten_id25499
DTSTART;TZID=Europe/Berlin:20260420T190000
DTEND;TZID=Europe/Berlin:20260420T203000
LOCATION:Online
END:VEVENT
END:VCALENDAR
