BEGIN:VCALENDAR
VERSION:2.0
PRODID:-//Sabre//Sabre VObject 4.5.7//EN
CALSCALE:GREGORIAN
BEGIN:VEVENT
UID:sabre-vobject-bbdd8214-5bc1-4e9c-bc31-83a8cad199d1
DTSTAMP:20260419T142546Z
SUMMARY:Fake News: Desinformation erkennen
DESCRIPTION:https://stadtmarketing-neuburg.de/veranstaltungen/fake-news-des
 information-erkennen_id25575
DTSTART;TZID=Europe/Berlin:20260410T080000
DTEND;TZID=Europe/Berlin:20260410T200000
LOCATION:Volkshochschule Neuburg e.V. (VHS)\, Franziskanerstraße B 200\, 8
 6633 Neuburg an der Donau
END:VEVENT
END:VCALENDAR
