BEGIN:VCALENDAR
VERSION:2.0
PRODID:-//Sabre//Sabre VObject 4.5.7//EN
CALSCALE:GREGORIAN
BEGIN:VEVENT
UID:sabre-vobject-294ac787-4d3d-42e3-b8b1-f0c436df96bd
DTSTAMP:20260425T234926Z
SUMMARY:Fake News: Desinformation erkennen
DESCRIPTION:https://stadtmarketing-neuburg.de/veranstaltungen/fake-news-des
 information-erkennen_id25582
DTSTART;TZID=Europe/Berlin:20260421T080000
DTEND;TZID=Europe/Berlin:20260421T200000
LOCATION:Volkshochschule Neuburg e.V. (VHS)\, Franziskanerstraße B 200\, 8
 6633 Neuburg an der Donau
END:VEVENT
END:VCALENDAR
