BEGIN:VCALENDAR
VERSION:2.0
PRODID:-//Sabre//Sabre VObject 4.5.7//EN
CALSCALE:GREGORIAN
BEGIN:VEVENT
UID:sabre-vobject-eb3b374c-e08b-43c1-9fac-dff33446a4d8
DTSTAMP:20260426T024439Z
SUMMARY:Sammeln - Forschen - Bewahren
DESCRIPTION:https://stadtmarketing-neuburg.de/veranstaltungen/sammeln-forsc
 hen-bewahren_id25676
DTSTART;TZID=Europe/Berlin:20260421T100000
DTEND;TZID=Europe/Berlin:20260421T180000
LOCATION:Stadtmuseum Neuburg an der Donau\, Amalienstraße  19\, 86633 Neub
 urg an der Donau
END:VEVENT
END:VCALENDAR
