BEGIN:VCALENDAR
VERSION:2.0
PRODID:-//Sabre//Sabre VObject 4.5.7//EN
CALSCALE:GREGORIAN
BEGIN:VEVENT
UID:sabre-vobject-98e8cf73-4f4e-43ba-838d-fa998d38fac4
DTSTAMP:20260425T200501Z
SUMMARY:Fledermäuse - Faszinierende Jäger der Nacht
DESCRIPTION:https://stadtmarketing-neuburg.de/veranstaltungen/fledermaeuse-
 faszinierende-jaeger-der-nacht_id25957
DTSTART;TZID=Europe/Berlin:20260421T073000
DTEND;TZID=Europe/Berlin:20260421T160000
LOCATION:Landratsamt Neuburg-Schrobenhausen\, Platz-der-Deutschen-Einheit 1
 \, 86633 Neuburg an der Donau
END:VEVENT
END:VCALENDAR
