BEGIN:VCALENDAR
VERSION:2.0
PRODID:-//Sabre//Sabre VObject 4.5.7//EN
CALSCALE:GREGORIAN
BEGIN:VEVENT
UID:sabre-vobject-7deeb239-90f6-4d77-a37b-c9b16b5963e0
DTSTAMP:20260425T214702Z
SUMMARY:Fledermäuse – Faszinierende Jäger der Nacht
DESCRIPTION:https://stadtmarketing-neuburg.de/veranstaltungen/fledermaeuse-
 faszinierende-jaeger-der-nacht_id26043
DTSTART;TZID=Europe/Berlin:20260421T073000
DTEND;TZID=Europe/Berlin:20260421T160000
LOCATION:Landratsamt Neuburg-Schrobenhausen\, Platz-der-Deutschen-Einheit 1
 \, 86633 Neuburg an der Donau
END:VEVENT
END:VCALENDAR
