BEGIN:VCALENDAR
VERSION:2.0
PRODID:-//Sabre//Sabre VObject 4.5.7//EN
CALSCALE:GREGORIAN
BEGIN:VEVENT
UID:sabre-vobject-b8caa031-1a1d-444d-a46d-3ae25221828b
DTSTAMP:20260423T012702Z
SUMMARY:Stadtteilfest Schwalbanger
DESCRIPTION:https://stadtmarketing-neuburg.de/veranstaltungen/stadtteilfest
 -schwalbanger_id8117
DTSTART;TZID=Europe/Berlin:20220514T140000
LOCATION:Bürgerhaus Schwalbanger
END:VEVENT
END:VCALENDAR
