BEGIN:VCALENDAR
VERSION:2.0
PRODID:-//Sabre//Sabre VObject 4.5.7//EN
CALSCALE:GREGORIAN
BEGIN:VEVENT
UID:sabre-vobject-f1d57152-89d1-452d-8d30-6b51cf09597a
DTSTAMP:20260422T095046Z
SUMMARY:Sebastian Reich und Amanda - Verrückte Zeit
DESCRIPTION:https://stadtmarketing-neuburg.de/veranstaltungen/sebastian-rei
 ch-und-amanda-verrueckte-zeit_id8128
DTSTART;TZID=Europe/Berlin:20220507T200000
LOCATION:Parkhalle
END:VEVENT
END:VCALENDAR
