BEGIN:VCALENDAR
VERSION:2.0
PRODID:-//Sabre//Sabre VObject 4.5.7//EN
CALSCALE:GREGORIAN
BEGIN:VEVENT
UID:sabre-vobject-5e8fddb7-7b57-4f6e-ac00-231cab907879
DTSTAMP:20260423T042845Z
SUMMARY:Flohmarkt am Südpark
DESCRIPTION:https://stadtmarketing-neuburg.de/veranstaltungen/flohmarkt-am-
 suedpark_id8139
DTSTART;TZID=Europe/Berlin:20220515T070000
LOCATION:Südpark
END:VEVENT
END:VCALENDAR
