BEGIN:VCALENDAR
VERSION:2.0
PRODID:-//Sabre//Sabre VObject 4.5.7//EN
CALSCALE:GREGORIAN
BEGIN:VEVENT
UID:sabre-vobject-54526afe-cf00-4fde-b54c-b592a4dd8fae
DTSTAMP:20260422T160702Z
SUMMARY:Städtische Schule für Tanztheater - Kindertheater 
DESCRIPTION:https://stadtmarketing-neuburg.de/veranstaltungen/staedtische-s
 chule-fuer-tanztheater-kindertheater_id8184
DTSTART;TZID=Europe/Berlin:20220508T170000
LOCATION:Stadttheater
END:VEVENT
END:VCALENDAR
