BEGIN:VCALENDAR
VERSION:2.0
PRODID:-//Sabre//Sabre VObject 4.5.7//EN
CALSCALE:GREGORIAN
BEGIN:VEVENT
UID:sabre-vobject-d01c1d10-6122-4056-bca9-75edcbad0f54
DTSTAMP:20260422T193701Z
SUMMARY:Live Talk & Musik - Die Seele des Tango mit Luis Borda und Sven Fal
 ler
DESCRIPTION:https://stadtmarketing-neuburg.de/veranstaltungen/live-talk-mus
 ik-die-seele-des-tango-mit-luis-borda-und-sven-faller_id8192
DTSTART;TZID=Europe/Berlin:20220512T200000
LOCATION:Schlösschen Hesselohe
END:VEVENT
END:VCALENDAR
