BEGIN:VCALENDAR
VERSION:2.0
PRODID:-//Sabre//Sabre VObject 4.5.7//EN
CALSCALE:GREGORIAN
BEGIN:VEVENT
UID:sabre-vobject-00ba487d-32f8-4a6c-883b-8cee3d7a6e77
DTSTAMP:20260423T025539Z
SUMMARY:Kultnacht 
DESCRIPTION:https://stadtmarketing-neuburg.de/veranstaltungen/kultnacht_id8
 228
DTSTART;TZID=Europe/Berlin:20220514T200000
LOCATION:Kunstscheune
END:VEVENT
END:VCALENDAR
