BEGIN:VCALENDAR
VERSION:2.0
PRODID:-//Sabre//Sabre VObject 4.5.7//EN
CALSCALE:GREGORIAN
BEGIN:VEVENT
UID:sabre-vobject-c7c8e9a5-d178-4084-906a-10eb5f7a4d30
DTSTAMP:20260422T135832Z
SUMMARY:Ausstellung - Echte Körper
DESCRIPTION:https://stadtmarketing-neuburg.de/veranstaltungen/ausstellung-e
 chte-koerper_id8275
DTSTART;TZID=Europe/Berlin:20220508T110000
DTEND;TZID=Europe/Berlin:20220508T180000
LOCATION:Restaurant Rennbahn
END:VEVENT
END:VCALENDAR
