BEGIN:VCALENDAR
VERSION:2.0
PRODID:-//Sabre//Sabre VObject 4.5.7//EN
CALSCALE:GREGORIAN
BEGIN:VEVENT
UID:sabre-vobject-a829d3ba-00f5-4e87-811e-3c8da5339c08
DTSTAMP:20260423T054853Z
SUMMARY:Kreisjugendring - eBike Tour
DESCRIPTION:https://stadtmarketing-neuburg.de/veranstaltungen/kreisjugendri
 ng-ebike-tour_id8308
DTSTART;TZID=Europe/Berlin:20220515T090000
DTEND;TZID=Europe/Berlin:20220515T130000
LOCATION:Neuburg
END:VEVENT
END:VCALENDAR
