BEGIN:VCALENDAR
VERSION:2.0
PRODID:-//Sabre//Sabre VObject 4.5.7//EN
CALSCALE:GREGORIAN
BEGIN:VEVENT
UID:sabre-vobject-f2ba31ac-06f6-4d1b-a34d-59461ec90db2
DTSTAMP:20260422T210611Z
SUMMARY:BLK FRIDAY @ moos.park
DESCRIPTION:https://stadtmarketing-neuburg.de/veranstaltungen/blk-friday-mo
 os-park_id8342
DTSTART;TZID=Europe/Berlin:20220513T000000
LOCATION:Pöttmes
END:VEVENT
END:VCALENDAR
