BEGIN:VCALENDAR
VERSION:2.0
PRODID:-//Sabre//Sabre VObject 4.5.7//EN
CALSCALE:GREGORIAN
BEGIN:VEVENT
UID:sabre-vobject-482369da-79ed-434b-a3a6-ccf73eda28ea
DTSTAMP:20260422T232147Z
SUMMARY:Fabian Farell @ moos.park
DESCRIPTION:https://stadtmarketing-neuburg.de/veranstaltungen/fabian-farell
 -moos-park_id8344
DTSTART;TZID=Europe/Berlin:20220514T000000
LOCATION:Pöttmes
END:VEVENT
END:VCALENDAR
