BEGIN:VCALENDAR
VERSION:2.0
PRODID:-//Sabre//Sabre VObject 4.5.7//EN
CALSCALE:GREGORIAN
BEGIN:VEVENT
UID:sabre-vobject-6ec63292-e33d-4060-b45e-5495c21ba3a3
DTSTAMP:20260422T174316Z
SUMMARY:Hausmusikabend 
DESCRIPTION:https://stadtmarketing-neuburg.de/veranstaltungen/hausmusikaben
 d_id8349
DTSTART;TZID=Europe/Berlin:20220510T193000
LOCATION:Neuburg
END:VEVENT
END:VCALENDAR
