BEGIN:VCALENDAR
VERSION:2.0
PRODID:-//Sabre//Sabre VObject 4.5.7//EN
CALSCALE:GREGORIAN
BEGIN:VEVENT
UID:sabre-vobject-3875ba46-1028-4cba-ad05-e7c2fef8ea47
DTSTAMP:20260422T122325Z
SUMMARY:Wild Night out Live
DESCRIPTION:https://stadtmarketing-neuburg.de/veranstaltungen/wild-night-ou
 t-live_id8355
DTSTART;TZID=Europe/Berlin:20220507T200000
LOCATION:Drogerie
END:VEVENT
END:VCALENDAR
